BEGIN:VCALENDAR
VERSION:2.0
PRODID:-//Capitol Business Connection - ECPv6.15.20//NONSGML v1.0//EN
CALSCALE:GREGORIAN
METHOD:PUBLISH
X-ORIGINAL-URL:https://capbizconnect.com
X-WR-CALDESC:Events for Capitol Business Connection
REFRESH-INTERVAL;VALUE=DURATION:PT1H
X-Robots-Tag:noindex
X-PUBLISHED-TTL:PT1H
BEGIN:VTIMEZONE
TZID:America/Los_Angeles
BEGIN:DAYLIGHT
TZOFFSETFROM:-0800
TZOFFSETTO:-0700
TZNAME:PDT
DTSTART:20240310T100000
END:DAYLIGHT
BEGIN:STANDARD
TZOFFSETFROM:-0700
TZOFFSETTO:-0800
TZNAME:PST
DTSTART:20241103T090000
END:STANDARD
BEGIN:DAYLIGHT
TZOFFSETFROM:-0800
TZOFFSETTO:-0700
TZNAME:PDT
DTSTART:20250309T100000
END:DAYLIGHT
BEGIN:STANDARD
TZOFFSETFROM:-0700
TZOFFSETTO:-0800
TZNAME:PST
DTSTART:20251102T090000
END:STANDARD
BEGIN:DAYLIGHT
TZOFFSETFROM:-0800
TZOFFSETTO:-0700
TZNAME:PDT
DTSTART:20260308T100000
END:DAYLIGHT
BEGIN:STANDARD
TZOFFSETFROM:-0700
TZOFFSETTO:-0800
TZNAME:PST
DTSTART:20261101T090000
END:STANDARD
END:VTIMEZONE
BEGIN:VEVENT
DTSTART;TZID=America/Los_Angeles:20251119T180000
DTEND;TZID=America/Los_Angeles:20251119T200000
DTSTAMP:20260425T104004
CREATED:20251114T231355Z
LAST-MODIFIED:20251114T231813Z
UID:1341-1763575200-1763582400@capbizconnect.com
SUMMARY:November Mixer
DESCRIPTION:
URL:https://capbizconnect.com/event/november-mixer/
LOCATION:Streetzlan Smokehouse Taqueria\, 9080 Laguna Main Street\, St 2\, Elk Grove\, CA\, 95758\, United States
END:VEVENT
BEGIN:VEVENT
DTSTART;TZID=America/Los_Angeles:20251022T180000
DTEND;TZID=America/Los_Angeles:20251022T200000
DTSTAMP:20260425T104004
CREATED:20250924T000719Z
LAST-MODIFIED:20250924T000854Z
UID:1321-1761156000-1761163200@capbizconnect.com
SUMMARY:Capitol Business Connection Mixer
DESCRIPTION:
URL:https://capbizconnect.com/event/cap-biz-connection-mixer/
LOCATION:Streetzlan Smokehouse Taqueria\, 9080 Laguna Main Street\, St 2\, Elk Grove\, CA\, 95758\, United States
END:VEVENT
BEGIN:VEVENT
DTSTART;TZID=America/Los_Angeles:20251013T173000
DTEND;TZID=America/Los_Angeles:20251013T183000
DTSTAMP:20260425T104004
CREATED:20250924T000421Z
LAST-MODIFIED:20250924T000421Z
UID:1318-1760376600-1760380200@capbizconnect.com
SUMMARY:Capitol Business Connection Member Business Meeting
DESCRIPTION:I hour meeting to conduct Capitol Business Connection Business.
URL:https://capbizconnect.com/event/capitol-business-connection-member-business-meeting/
LOCATION:CA
END:VEVENT
BEGIN:VEVENT
DTSTART;TZID=America/Los_Angeles:20251002T113000
DTEND;TZID=America/Los_Angeles:20251002T130000
DTSTAMP:20260425T104004
CREATED:20250923T235514Z
LAST-MODIFIED:20250923T235514Z
UID:1311-1759404600-1759410000@capbizconnect.com
SUMMARY:Secure & Scale: Power lunch for Small Business Success!
DESCRIPTION:A Cap Biz & EastWest Bank exclusive luncheon event designed to help protect\, grow\, and empower your business.
URL:https://capbizconnect.com/event/secure-scale-power-lunch-for-small-business-success/
LOCATION:EastWest Bank\, 4790 Freeport Boulevard\, Sacramento\,\, CA\, 95822\, United States
END:VEVENT
BEGIN:VEVENT
DTSTART;TZID=America/Los_Angeles:20250924T180000
DTEND;TZID=America/Los_Angeles:20250924T200000
DTSTAMP:20260425T104004
CREATED:20250923T183657Z
LAST-MODIFIED:20250923T183702Z
UID:1274-1758736800-1758744000@capbizconnect.com
SUMMARY:Capitol Business Connection Mixer
DESCRIPTION:
URL:https://capbizconnect.com/event/capitol-business-connection-mixer/
LOCATION:Streetzlan Smokehouse Taqueria\, 9080 Laguna Main Street\, St 2\, Elk Grove\, CA\, 95758\, United States
END:VEVENT
END:VCALENDAR